BEGIN:VCALENDAR
VERSION:2.0
PRODID:-//JEMAH e.V. - ECPv6.15.18//NONSGML v1.0//EN
CALSCALE:GREGORIAN
METHOD:PUBLISH
X-ORIGINAL-URL:https://www.jemah.de
X-WR-CALDESC:Veranstaltungen für JEMAH e.V.
REFRESH-INTERVAL;VALUE=DURATION:PT1H
X-Robots-Tag:noindex
X-PUBLISHED-TTL:PT1H
BEGIN:VTIMEZONE
TZID:Europe/Berlin
BEGIN:DAYLIGHT
TZOFFSETFROM:+0100
TZOFFSETTO:+0200
TZNAME:CEST
DTSTART:20240331T010000
END:DAYLIGHT
BEGIN:STANDARD
TZOFFSETFROM:+0200
TZOFFSETTO:+0100
TZNAME:CET
DTSTART:20241027T010000
END:STANDARD
BEGIN:DAYLIGHT
TZOFFSETFROM:+0100
TZOFFSETTO:+0200
TZNAME:CEST
DTSTART:20250330T010000
END:DAYLIGHT
BEGIN:STANDARD
TZOFFSETFROM:+0200
TZOFFSETTO:+0100
TZNAME:CET
DTSTART:20251026T010000
END:STANDARD
BEGIN:DAYLIGHT
TZOFFSETFROM:+0100
TZOFFSETTO:+0200
TZNAME:CEST
DTSTART:20260329T010000
END:DAYLIGHT
BEGIN:STANDARD
TZOFFSETFROM:+0200
TZOFFSETTO:+0100
TZNAME:CET
DTSTART:20261025T010000
END:STANDARD
END:VTIMEZONE
BEGIN:VEVENT
DTSTART;VALUE=DATE:20251206
DTEND;VALUE=DATE:20251207
DTSTAMP:20260420T155439
CREATED:20241220T125249Z
LAST-MODIFIED:20251122T125731Z
UID:6501-1764979200-1765065599@www.jemah.de
SUMMARY:Treffen der RG Franken
DESCRIPTION:🗓 Datum: 6.12.2025 \n⏰ Uhrzeit: 14:00Uhr \n📍 Ort: Schwabach (Adolf Henselt-Statue)auf dem Martin-Luther-Platz) \nzum traditionellen Weihnachtsmarktbesuch treffen wir uns dieses Jahr in der Goldschläger-Stadt Schwabach. Dort können wir gemeinsam über den beschaulichen Markt schlendern\, beim zu Melodien etwas mitsingen oder\, wer möchte für den Rund-Um-Blick einen Kirchturm besteigen. Danach werden wir noch zur Stärkung in den „Holy Monk“ (Bar/Restaurant) einkehren. \nWann? \nAm 06.12.2025 ab 14 Uhr \nWo?  \nTreffpunkt an der „Klavierspieler-Statue“ (Adolf Henselt-Statue) an der Stadtpfarrkirche (siehe Karte)  \nhttps://verkehrsverein-schwabach.de/weihnachtsmarkt/  \nPreise?\nTurmbesichtigung (bei Bedarf): 2\,– € \nAnmeldung: \nDa wir planen müssen\, bitten wir um Anmeldung bis zum 03.12.25 unter franken@jemah.de oder bei Sandra unter 015121002411 (auch per WhApp).
URL:https://www.jemah.de/termin/treffen-der-rg-franken-5/
LOCATION:RG Franken
CATEGORIES:Franken,Jemah e.V.,Startseite
ORGANIZER;CN="Regionalgruppe Franken":MAILTO:franken@jemah.de
END:VEVENT
BEGIN:VEVENT
DTSTART;TZID=Europe/Berlin:20251206T150000
DTEND;TZID=Europe/Berlin:20251206T180000
DTSTAMP:20260420T155439
CREATED:20241221T152457Z
LAST-MODIFIED:20251107T101751Z
UID:6521-1765033200-1765044000@www.jemah.de
SUMMARY:Advents-Kaffee-Trinken der RG NRW
DESCRIPTION:🗓 Datum: 6.12.2025 \n⏰ Uhrzeit: 15:00 Uhr \n📍 Ort: Dortmund \n\nLiebes Mitglied \, \ndie Blätter haben sich bereits in den schönsten Farben verfärbt und in großen Schritten kommt die Winterzeit auf uns zu. \nGemeinsam wollen wir das Vereinsjahr 2025 Revue passieren lassen und uns gemütlich auf die besondere Zeit des Jahres einstimmen. \nDazu laden wir Dich zu einem adventlichen Kaffeetrinken am \nSamstag\, 06. Dezember 2025 um 15:00 Uhr ein. \nUnser Treffen findet\, wie im Vorjahr\, in Dortmund statt. \nDie genaue Adresse erhältst Du bei deiner Anmeldung über nrw@jemah.de (Anmeldefrist bis 01.12.2025). \nUm die Kaffeetafel mit Leckereien füllen zu können\, wäre es schön\, wenn Du dich mit Kuchen\, Plätzchen oder Mandarinen/Nüssen daran beteiligen würdest. \nGib uns bei deiner Anmeldung bitte an\, was Du mitbringen möchtest. \n  \nWir freuen uns auf Dich! \nHERZliche Grüße\, \nPatricia und Michael
URL:https://www.jemah.de/termin/advents-kaffee-trinken-der-rg-nrw-2025/
LOCATION:Dortmund
CATEGORIES:Jemah e.V.,Nordrhein-Westfalen,Startseite
ORGANIZER;CN="Regionalgruppe Nordrhein-Westfalen":MAILTO:nrw@jemah.de
END:VEVENT
BEGIN:VEVENT
DTSTART;TZID=Europe/Berlin:20251206T150000
DTEND;TZID=Europe/Berlin:20251206T180000
DTSTAMP:20260420T155439
CREATED:20251124T160657Z
LAST-MODIFIED:20251124T160657Z
UID:7935-1765033200-1765044000@www.jemah.de
SUMMARY:Weihnachtsmarkt mit der RG Stuttgart
DESCRIPTION:🗓 Datum: 6.12.2025 \n⏰ Uhrzeit: 15:00 Uhr \n📍 Ort: Stuttgarter Weihnachtsmarkt; Treffpunkt am Pavillon vor dem Königsbau in der Königsstraße \nWir laden euch herzlich zu einem Weihnachtsmarktbummel ein. Gemeinsam wollen wir über den Weihnachtsmarkt schlendern und uns an dem ein oder anderen Stand verköstigen oder mit einem heißen Getränk aufwärmen. Der Austausch soll dabei natürlich auch nicht zu kurz kommen. Wir freuen uns euch wiederzusehen und auch neue Betroffene kennenzulernen. Familienangehörige sind wie immer willkommen. \nÜber eine schriftliche Zusage in der WhatsApp Gruppe Regionalgruppe Stuttgart oder per Mail wären wir dankbar\, um zu wissen\, ob wir noch warten sollen\, bevor wir um 15:00 Uhr loslaufen. \nHerzliche Grüße \nEure Regionalleitung Stuttgart \nTanja Gudat & Angela Lobmüller \nMail: stuttgart@jemah.de \n 
URL:https://www.jemah.de/termin/weihnachtsmarkt-stuttgart-2025/
LOCATION:Stuttgart
CATEGORIES:Jemah e.V.,Startseite,Stuttgart
END:VEVENT
BEGIN:VEVENT
DTSTART;TZID=Europe/Berlin:20251213T150000
DTEND;TZID=Europe/Berlin:20251213T200000
DTSTAMP:20260420T155439
CREATED:20241220T125735Z
LAST-MODIFIED:20251116T203852Z
UID:6511-1765638000-1765656000@www.jemah.de
SUMMARY:Treffen der RG Baden-Württemberg (Weihnachtsmarkt)
DESCRIPTION:Liebe/r JEMAH\, Angehörige/r und Interessierte/r\, \nam Samstag\, den 13.12.2025 möchten wir uns mit DIR auf dem Barock-Weihnachtsmarkt in Ludwigsburg auf die Weihnachtszeit einstimmen. 🎅 \n⏰ Wann: Wir treffen uns um 15 Uhr am Samstag\, den 13.12.2025 \n📍 Wo: Treffpunkt ist vor der WilhelmGalerie\, Wilhelmstraße 26 in Ludwigsburg \nNach dem Weihnachtsmarktbesuch möchten wir im La Pinseria Ludwigsburg (Solitudestraße 43\, Ludwigsburg) einkehren. Der Tisch ist auf 17:30 Uhr bestellt. \nWir freuen uns auf DICH. \n💌 Bitte gib uns bis Donnerstag\, 11.12. Bescheid\, ob DU dabei bist. Als Anmeldung einfach auf diese Mail antworten oder in der WhatsApp-Community uns persönlich oder in der Regionalgruppe BaWü eine Nachricht schreiben. \nHERZliche Grüße \nKathrin und Sabine
URL:https://www.jemah.de/termin/treffen-der-rg-baden-wuerttemberg-weihnachtsmarkt/
LOCATION:Ludwigsburg\, Schorndorfer Straße\, Ludwigsburg\, 71634
CATEGORIES:Baden Württemberg,Jemah e.V.,Startseite
ORGANIZER;CN="Regionalgruppe Baden-W%C3%BCrttemberg":MAILTO:baden-wuerttemberg@jemah.de
END:VEVENT
BEGIN:VEVENT
DTSTART;TZID=Europe/Berlin:20251213T150000
DTEND;TZID=Europe/Berlin:20251213T200000
DTSTAMP:20260420T155439
CREATED:20251116T202938Z
LAST-MODIFIED:20251116T203112Z
UID:7915-1765638000-1765656000@www.jemah.de
SUMMARY:Weihnachtsmarktbummel der RG Hamburg / Schleswig-Holstein
DESCRIPTION:Liebe JEMAHs\, \nhier kommt die Ankündigung für unseren traditionellen Weihnachtsmarktbummel in diesem Jahr: \nAm Samstag\, den 13. Dezember 2025 um 15 Uhr wollen wir den Weihnachtsmarkt in Hamburg Altona/Ottensen besuchen und anschließend zusammen essen gehen. \nWir treffen uns im Bahnhof Altona am Reisezentrum. \nBitte meldet euch bis zum 4. Dezember\, wenn ihr mitkommen wollt. Dann können wir einen Tisch reservieren.
URL:https://www.jemah.de/termin/weihnachtsmarktbummel-der-rg-hamburg-schleswig-holstein/
LOCATION:Hamburg
CATEGORIES:Hamburg/Schleswig Holstein
ORGANIZER;CN="Regionalgruppe Hamburg-Schleswig Holstein":MAILTO:hamburg@jemah.de
END:VEVENT
BEGIN:VEVENT
DTSTART;TZID=Europe/Berlin:20251213T160000
DTEND;TZID=Europe/Berlin:20251213T200000
DTSTAMP:20260420T155439
CREATED:20241220T100730Z
LAST-MODIFIED:20251121T094616Z
UID:6413-1765641600-1765656000@www.jemah.de
SUMMARY:Mainzer Weihnachtsmarktbesuch der RG Hessen\, RLP & Saarland
DESCRIPTION:🗓 Datum: 13.12.2025 \n⏰ Uhrzeit: 16:00 Uhr \n📍 Ort: Fastnachtsbrunnen Mainz (Schillerplatz) \nDie Regionalgruppen Hessen\, Rheinland-Pfalz und Saarland laden herzlich zum gemeinsamen Besuch des Mainzer Weihnachtsmarkts ein! \nLasst uns bei Glühwein\, Punsch oder anderen Leckereien die vorweihnachtliche Atmosphäre genießen\, uns austauschen und das Jahr gemeinsam ausklingen lassen. \nProgramm\nWeihnachtsmarktbummel & Austausch\nWir treffen uns auf dem (kleinen) Mainzer Weihnachtsmarkt am Schillerplatz\, schlendern über den Markt und lassen uns von der weihnachtlichen Stimmung verzaubern. Bei einem Heißgetränk unserer Wahl haben wir Zeit für Gespräche und Austausch. \nGemeinsames Abendessen\nIm Anschluss gehen wir zusammen essen. Restaurant und Küche stimmen wir gemeinsam ab – ob deftig\, vegetarisch oder international\, für jeden Geschmack wird etwas dabei sein. \nFür wen?\nDieser Termin richtet sich an alle Mitglieder und Interessierte der Regionalgruppen Hessen\, Rheinland-Pfalz und Saarland. Ob allein\, mit Partner*in oder Begleitung – alle sind herzlich willkommen!
URL:https://www.jemah.de/termin/mainzer-weihnachtsmarktbesuch-2025/
LOCATION:Mainz
CATEGORIES:Hessen,Jemah e.V.,Rheinland-Pfalz,Saarland,Startseite
ORGANIZER;CN="RG Hessen%2C RLP & Saarland":MAILTO:rheinland-pfalz@jemah.de
END:VEVENT
BEGIN:VEVENT
DTSTART;TZID=Europe/Berlin:20251219T190000
DTEND;TZID=Europe/Berlin:20251219T220000
DTSTAMP:20260420T155439
CREATED:20241220T103303Z
LAST-MODIFIED:20250304T173023Z
UID:6453-1766170800-1766181600@www.jemah.de
SUMMARY:Stammtisch - Weihnachten mit dem Vorstand
DESCRIPTION:🗓 Datum: 19.12.2025 \n⏰ Uhrzeit: 19:00 Uhr \n📍 Ort: Online (Mitglieder bekommen den Einladungs-Link per E-Mail) \nIn regelmäßigen Abständen gibt es einen Stammtisch\, der dem Austausch mit dem Vorstand dient. Der Vorstand berichtet in  lockerer Atmosphäre davon\, was aktuell im Vorstand Thema ist\, und die Teilnehmer haben die Möglichkeit\, sowohl konkrete als auch allgemeine Fragen zu Vorstandsarbeit und dem Verein zu stellen. \nHerzliche Grüße \nEuer AK-Pool
URL:https://www.jemah.de/termin/stammtisch-weihnachten-mit-dem-vorstand/
LOCATION:Online-Meeting
CATEGORIES:Jemah e.V.,Startseite
ORGANIZER;CN="AK-Pool":MAILTO:megan.schultz@jemah.de
END:VEVENT
END:VCALENDAR